BEGIN:VCALENDAR
VERSION:2.0
PRODID:-//Federata e Pëllumbave Rrotullues të Kosovës - ECPv6.15.20//NONSGML v1.0//EN
CALSCALE:GREGORIAN
METHOD:PUBLISH
X-WR-CALNAME:Federata e Pëllumbave Rrotullues të Kosovës
X-ORIGINAL-URL:https://fprrk.org
X-WR-CALDESC:Events for Federata e Pëllumbave Rrotullues të Kosovës
REFRESH-INTERVAL;VALUE=DURATION:PT1H
X-Robots-Tag:noindex
X-PUBLISHED-TTL:PT1H
BEGIN:VTIMEZONE
TZID:UTC
BEGIN:STANDARD
TZOFFSETFROM:+0000
TZOFFSETTO:+0000
TZNAME:UTC
DTSTART:20250101T000000
END:STANDARD
END:VTIMEZONE
BEGIN:VEVENT
DTSTART;TZID=UTC:20260314T153000
DTEND;TZID=UTC:20260314T163000
DTSTAMP:20260423T170358
CREATED:20260313T082248Z
LAST-MODIFIED:20260313T083354Z
UID:4093-1773502200-1773505800@fprrk.org
SUMMARY:Islam Maloku
DESCRIPTION:mbahet garë te Islam Maloku në Vushtrri\, ditë e Shtunë garon pas Irfanit
URL:https://fprrk.org/event/islam-maloku/
ATTACH;FMTTYPE=image/jpeg:https://fprrk.org/wp-content/uploads/2023/10/islam-maloku.jpg
END:VEVENT
END:VCALENDAR