BEGIN:VCALENDAR
VERSION:2.0
PRODID:-//Federata e Pëllumbave Rrotullues të Kosovës - ECPv6.15.20//NONSGML v1.0//EN
CALSCALE:GREGORIAN
METHOD:PUBLISH
X-WR-CALNAME:Federata e Pëllumbave Rrotullues të Kosovës
X-ORIGINAL-URL:https://fprrk.org
X-WR-CALDESC:Events for Federata e Pëllumbave Rrotullues të Kosovës
REFRESH-INTERVAL;VALUE=DURATION:PT1H
X-Robots-Tag:noindex
X-PUBLISHED-TTL:PT1H
BEGIN:VTIMEZONE
TZID:UTC
BEGIN:STANDARD
TZOFFSETFROM:+0000
TZOFFSETTO:+0000
TZNAME:UTC
DTSTART:20250101T000000
END:STANDARD
END:VTIMEZONE
BEGIN:VEVENT
DTSTART;TZID=UTC:20260315T160000
DTEND;TZID=UTC:20260315T170000
DTSTAMP:20260423T183644
CREATED:20260313T083241Z
LAST-MODIFIED:20260313T083241Z
UID:4095-1773590400-1773594000@fprrk.org
SUMMARY:Bekim Thaqi
DESCRIPTION:mbahet garë te Bekim Thaqi në Muqivërrc\, ditë e Dielë garon prej orës 16:00
URL:https://fprrk.org/event/bekim-thaqi/
ATTACH;FMTTYPE=image/jpeg:https://fprrk.org/wp-content/uploads/2018/12/bekim-thaqi-e1678192706636.jpg
END:VEVENT
BEGIN:VEVENT
DTSTART;TZID=UTC:20260322T110000
DTEND;TZID=UTC:20260322T120000
DTSTAMP:20260423T183644
CREATED:20260321T091230Z
LAST-MODIFIED:20260321T091230Z
UID:4100-1774177200-1774180800@fprrk.org
SUMMARY:Hysen Sinani
DESCRIPTION:mbahet garë te Hysen Sinani në Mogillë\, ditë e Dielë garon prej orës 11:00
URL:https://fprrk.org/event/hysen-sinani/
ATTACH;FMTTYPE=image/jpeg:https://fprrk.org/wp-content/uploads/2026/03/hysen-sinani.jpg
END:VEVENT
BEGIN:VEVENT
DTSTART;TZID=UTC:20260325T110000
DTEND;TZID=UTC:20260325T120000
DTSTAMP:20260423T183644
CREATED:20260323T083715Z
LAST-MODIFIED:20260323T083715Z
UID:4109-1774436400-1774440000@fprrk.org
SUMMARY:Bajram Nebiu
DESCRIPTION:mbahet garë te Bajram Nebiu në Viti\, ditë e Mërkurë garon prej orës 11:00
URL:https://fprrk.org/event/bajram-nebiu/
ATTACH;FMTTYPE=image/jpeg:https://fprrk.org/wp-content/uploads/2022/05/Bajram-Nebiu-e1678191929445.jpg
END:VEVENT
BEGIN:VEVENT
DTSTART;TZID=UTC:20260325T160000
DTEND;TZID=UTC:20260325T170000
DTSTAMP:20260423T183644
CREATED:20260323T083815Z
LAST-MODIFIED:20260323T083815Z
UID:4111-1774454400-1774458000@fprrk.org
SUMMARY:Egzon Ajdini
DESCRIPTION:mbahet garë te Egzon Ajdini në Malishevë\, ditë e Mërkurë garon prej orës 16:00
URL:https://fprrk.org/event/egzon-ajdini/
ATTACH;FMTTYPE=image/jpeg:https://fprrk.org/wp-content/uploads/2024/10/Egzon-Ajdini.jpg
END:VEVENT
BEGIN:VEVENT
DTSTART;TZID=UTC:20260405T160000
DTEND;TZID=UTC:20260405T170000
DTSTAMP:20260423T183644
CREATED:20260321T091350Z
LAST-MODIFIED:20260403T073143Z
UID:4103-1775404800-1775408400@fprrk.org
SUMMARY:Dardan Veliu
DESCRIPTION:mbahet garë te Dardan Veliu në Mitrovicë\, ditë e Dielë garon prej orës 16:00
URL:https://fprrk.org/event/4103/
ATTACH;FMTTYPE=image/jpeg:https://fprrk.org/wp-content/uploads/2023/05/346116712_901648110894776_3277277300327478572_n.jpg
END:VEVENT
BEGIN:VEVENT
DTSTART;TZID=UTC:20260412T150000
DTEND;TZID=UTC:20260412T160000
DTSTAMP:20260423T183644
CREATED:20260312T131601Z
LAST-MODIFIED:20260411T183322Z
UID:4091-1776006000-1776009600@fprrk.org
SUMMARY:Irfan Pllana
DESCRIPTION:mbahet garë për + 50 metra te Irfan Pllana në Bardhë të Madhë\, ditë e Dielë garon prej orës 15:00
URL:https://fprrk.org/event/irfan-pllana/
ATTACH;FMTTYPE=image/jpeg:https://fprrk.org/wp-content/uploads/2018/10/Irfan-PLLANA-e1678192734929.jpg
END:VEVENT
BEGIN:VEVENT
DTSTART;TZID=UTC:20260412T170000
DTEND;TZID=UTC:20260412T180000
DTSTAMP:20260423T183644
CREATED:20260411T075318Z
LAST-MODIFIED:20260411T075318Z
UID:4124-1776013200-1776016800@fprrk.org
SUMMARY:Mërgim Imeri
DESCRIPTION:mbahet garë te Mërgim Imeri në Vushtrri\, ditë e Dielë prej orës 17:00
URL:https://fprrk.org/event/mergim-imeri/
ATTACH;FMTTYPE=image/jpeg:https://fprrk.org/wp-content/uploads/2023/03/Batak-Vushtrri.jpg
END:VEVENT
BEGIN:VEVENT
DTSTART;TZID=UTC:20260418T170000
DTEND;TZID=UTC:20260418T180000
DTSTAMP:20260423T183644
CREATED:20260417T073950Z
LAST-MODIFIED:20260417T073950Z
UID:4133-1776531600-1776535200@fprrk.org
SUMMARY:Ramiz Sopi
DESCRIPTION:mbahet garë te Ramiz Sopi në Petrofc\, ditë e Shtunë prej orës 17:00
URL:https://fprrk.org/event/ramiz-sopi/
ATTACH;FMTTYPE=image/jpeg:https://fprrk.org/wp-content/uploads/2025/08/ramiz-sopi.jpg
END:VEVENT
BEGIN:VEVENT
DTSTART;TZID=UTC:20260422T180000
DTEND;TZID=UTC:20260422T190000
DTSTAMP:20260423T183644
CREATED:20260421T073659Z
LAST-MODIFIED:20260421T073659Z
UID:4136-1776880800-1776884400@fprrk.org
SUMMARY:Eroll Shilik
DESCRIPTION:mbahet garë te Eroll Shilik në Prizren\, ditë e Mërkurë prej orës 18:00
URL:https://fprrk.org/event/eroll-shilik/
ATTACH;FMTTYPE=image/jpeg:https://fprrk.org/wp-content/uploads/2024/09/erol-silik.jpg
END:VEVENT
END:VCALENDAR